BEGIN:VCALENDAR
VERSION:2.0
PRODID:-//hacksw/handcal//NONSGML v1.0//EN
BEGIN:VEVENT
SUMMARY:randonnee douce : Bois du Caprice
UID:015046c1-bdb4-4dc5-9fea-c2adedfccf15
DTSTART:20260428T220000Z
DTEND:20260429T220000Z
LOCATION:Localisation   
CATEGORIES:Sportif
STATUS:
DESCRIPTION:<p><span style="font-size:16px;">Bonjour amis
 randonneurs,</span></p>
 
 <p><span style="font-size:16px;">Pour notre
 randonnee douce du mercredi <strong>29 avril</strong> nous vous
 donnons rendez-vous a 14 H, sur le<strong> parking situe pres de la
 caserne des pompiers, rue des Rouges Gorges a Ouistreham</strong>,
 pour un parcours de
 8<strong> kilometres.</strong></span></p>
 
 <p><span
 style="font-size:16px;"><strong>Definition de la randonnee douce
 : </strong>Randonnee de 7 a 8 kilometres, peu ou pas de denivele,
 se <strong>deroulant a allure moderee 2 a 3
 km/h</strong></span></p>
 
 <p> </p>
 
 <p><span
 style="font-size:16px;">3€ pour les
 non–adherents</span></p>
 
 <p><span style="font-size:16px;">Bertrand
 ( TEL : 06 85 07 67 58 ), Daniel, Fabrice, Patrick et Elise pour
 Marche et Decouverte.</span></p>
URL;VALUE=URI:https://www.med-ouistreham.fr/evenements/2026/04/29/randonnee-douce-bois-du-caprice-2391404
END:VEVENT
END:VCALENDAR
